BEGIN:VCALENDAR
VERSION:2.0
PRODID:-//Nosotras deportistas - ECPv6.8.3//NONSGML v1.0//EN
CALSCALE:GREGORIAN
METHOD:PUBLISH
X-ORIGINAL-URL:https://nosotrasdeportistas.com
X-WR-CALDESC:Eventos para Nosotras deportistas
REFRESH-INTERVAL;VALUE=DURATION:PT1H
X-Robots-Tag:noindex
X-PUBLISHED-TTL:PT1H
BEGIN:VTIMEZONE
TZID:Europe/Madrid
BEGIN:DAYLIGHT
TZOFFSETFROM:+0100
TZOFFSETTO:+0200
TZNAME:CEST
DTSTART:20250330T010000
END:DAYLIGHT
BEGIN:STANDARD
TZOFFSETFROM:+0200
TZOFFSETTO:+0100
TZNAME:CET
DTSTART:20251026T010000
END:STANDARD
END:VTIMEZONE
BEGIN:VEVENT
DTSTART;TZID=Europe/Madrid:20250509T193000
DTEND;TZID=Europe/Madrid:20250509T193000
DTSTAMP:20260423T045443
CREATED:20250424T121750Z
LAST-MODIFIED:20250509T130113Z
UID:15094-1746819000-1746819000@nosotrasdeportistas.com
SUMMARY:Estreno Documental CB Burriana: Historia del Basket Femenino
DESCRIPTION:Este viernes 9 de mayo se estrena el documental sobre el basket femenino en Burriana (Castellón) titulado: Historia del Basket Femenino: De las Pioneras de los 60 a un futuro prometedor\, que narra los inicios de este deporte en la localidad castellonense\, y cómo unas cuántas valientes se atrevieron a desafiar los prejuicios de aquella época\, disfrutando del deporte.
URL:https://nosotrasdeportistas.com/event/estreno-documental-cb-burriana-historia-del-basket-femenino/
LOCATION:Auditorio Juan Varea\, Carrer de Ausiàs March\, 12\, 12530 Borriana\, Castelló\, Burriana\, Castellón\, Spain
CATEGORIES:Dones en Joc
ATTACH;FMTTYPE=image/jpeg:https://nosotrasdeportistas.com/wp-content/uploads/2025/04/2025-DONES-EN-JOC-CARTEL-Burriana-Redes-scaled.jpg
END:VEVENT
END:VCALENDAR